BEGIN:VCALENDAR
VERSION:2.0
PRODID:-//Forum Natur Brandenburg e.V. - ECPv6.15.12.2//NONSGML v1.0//EN
CALSCALE:GREGORIAN
METHOD:PUBLISH
X-WR-CALNAME:Forum Natur Brandenburg e.V.
X-ORIGINAL-URL:https://forum-natur-brandenburg.de
X-WR-CALDESC:Veranstaltungen für Forum Natur Brandenburg e.V.
REFRESH-INTERVAL;VALUE=DURATION:PT1H
X-Robots-Tag:noindex
X-PUBLISHED-TTL:PT1H
BEGIN:VTIMEZONE
TZID:Europe/Berlin
BEGIN:DAYLIGHT
TZOFFSETFROM:+0100
TZOFFSETTO:+0200
TZNAME:CEST
DTSTART:20240331T010000
END:DAYLIGHT
BEGIN:STANDARD
TZOFFSETFROM:+0200
TZOFFSETTO:+0100
TZNAME:CET
DTSTART:20241027T010000
END:STANDARD
BEGIN:DAYLIGHT
TZOFFSETFROM:+0100
TZOFFSETTO:+0200
TZNAME:CEST
DTSTART:20250330T010000
END:DAYLIGHT
BEGIN:STANDARD
TZOFFSETFROM:+0200
TZOFFSETTO:+0100
TZNAME:CET
DTSTART:20251026T010000
END:STANDARD
BEGIN:DAYLIGHT
TZOFFSETFROM:+0100
TZOFFSETTO:+0200
TZNAME:CEST
DTSTART:20260329T010000
END:DAYLIGHT
BEGIN:STANDARD
TZOFFSETFROM:+0200
TZOFFSETTO:+0100
TZNAME:CET
DTSTART:20261025T010000
END:STANDARD
END:VTIMEZONE
BEGIN:VEVENT
DTSTART;TZID=Europe/Berlin:20250225T183000
DTEND;TZID=Europe/Berlin:20250225T183000
DTSTAMP:20260426T032521
CREATED:20221011T112632Z
LAST-MODIFIED:20250218T162636Z
UID:1915-1740508200-1740508200@forum-natur-brandenburg.de
SUMMARY:Austausch und Diskussion zur Umsetzung der EU-Wiederher­stellungs­verordnung
DESCRIPTION:Förderung der nachhaltigen LandwirtschaftEin wichtiges Ziel der EU-Wiederherstellungsverordnung ist die Förderung der nachhaltigen Landwirtschaft\, die im Einklang mit dem Naturschutz steht. Das Forum Natur Brandenburg und der NABU laden zu einer Diskussionsrunde ein\, um gemeinsam über die Umsetzung und deren Auswirkungen zu diskutieren.
URL:https://forum-natur-brandenburg.de/event/austausch-und-diskussion-zur-umsetzung-der-eu-wiederherstellungsverordnung/
LOCATION:Haus der Natur\, Lindenstraße 34\, Potsdam\, 14467
END:VEVENT
END:VCALENDAR